BEGIN:VCALENDAR
VERSION:2.0
PRODID:-//Óscar León - Blog de la Abogacía Práctica - ECPv5.14.2.1//NONSGML v1.0//EN
CALSCALE:GREGORIAN
METHOD:PUBLISH
X-WR-CALNAME:Óscar León - Blog de la Abogacía Práctica
X-ORIGINAL-URL:https://oscarleon.es
X-WR-CALDESC:Eventos para Óscar León - Blog de la Abogacía Práctica
BEGIN:VTIMEZONE
TZID:Europe/Madrid
BEGIN:DAYLIGHT
TZOFFSETFROM:+0100
TZOFFSETTO:+0200
TZNAME:CEST
DTSTART:20190331T010000
END:DAYLIGHT
BEGIN:STANDARD
TZOFFSETFROM:+0200
TZOFFSETTO:+0100
TZNAME:CET
DTSTART:20191027T010000
END:STANDARD
END:VTIMEZONE
BEGIN:VEVENT
DTSTART;TZID=Europe/Madrid:20190530T160000
DTEND;TZID=Europe/Madrid:20190530T200000
DTSTAMP:20260423T133825
CREATED:20190522T115027Z
LAST-MODIFIED:20190527T103824Z
UID:5347-1559232000-1559246400@oscarleon.es
SUMMARY:Curso "El abogado litigante y el arte de interrogar y de informar en sala" (oratoria)
DESCRIPTION:El curso tendrá lugar de las 16:00 a las 20:00 horas en el ICAIB Palma\, con videoconferencia a las sedes colegiales\, y será impartido por el abogado Óscar Fernández León. \nLa actividad está bonificada para los colegiados del ICAIB con un punto de los bonos de formación gratuita y es gratuita para los miembros de la Agrupación de Jóvenes Abogados de Baleares\, para los alumnos del máster en abogacía y para los estudiantes del grado de Derecho de la UIB. \n PROGRAMA \n\nPROGRAMA QR\nPara formalizar la inscripción es necesario cumplimentar el formulario on-line que se encuentra más abajo. \nEn caso de no ser miembro de la AJAIB\, de no ser estudiante de Grado de Derecho de la UIB* o del Máster en Abogacía UIB-ICAIB*\, o de no disponer de Bono ICAIB\, el pago del precio de inscripción debe hacerse efectivo en la c/c ES44 0081 7045 1500 0112 2218 del Banco de Sabadell\, a nombre de la Fundación del Ilustre Colegio de Abogados de Baleares\, indicando el nombre de la persona inscrita.\n(* En el campo “datos facturación” del formulario de inscripción debe indicarse que curso está estudiando y remitir al correo fundacio@icaib.org un documento que lo acredite) \nUna vez descontados los puntos del Bono ICAIB\, recibida la documentación que acredite pertenecer a las categorías de inscripción gratuita\, o efectuado el correspondiente pago\, recibirá un correo electrónico de confirmación de plaza. \nLa conexión por videoconferencia con las sedes de Inca y Manacor únicamente se realizará si en el plazo de inscripción se alcanza un número mínimo de inscritos. \nMás información: \n 
URL:https://oscarleon.es/evento/curso-abogado-litigante-arte-interrogar-informar-sala-oratoria/
LOCATION:ICAIB
ATTACH;FMTTYPE=image/jpeg:https://oscarleon.es/wp-content/uploads/2019/05/interrgar-sala-oscar-leon-curso.jpg
ORGANIZER;CN="ICAIB":MAILTO:info@icaib.org
END:VEVENT
END:VCALENDAR