BEGIN:VCALENDAR
VERSION:2.0
PRODID:-//Óscar León - Blog de la Abogacía Práctica - ECPv5.14.2.1//NONSGML v1.0//EN
CALSCALE:GREGORIAN
METHOD:PUBLISH
X-WR-CALNAME:Óscar León - Blog de la Abogacía Práctica
X-ORIGINAL-URL:https://oscarleon.es
X-WR-CALDESC:Eventos para Óscar León - Blog de la Abogacía Práctica
BEGIN:VTIMEZONE
TZID:Europe/Madrid
BEGIN:DAYLIGHT
TZOFFSETFROM:+0100
TZOFFSETTO:+0200
TZNAME:CEST
DTSTART:20190331T010000
END:DAYLIGHT
BEGIN:STANDARD
TZOFFSETFROM:+0200
TZOFFSETTO:+0100
TZNAME:CET
DTSTART:20191027T010000
END:STANDARD
END:VTIMEZONE
BEGIN:VEVENT
DTSTART;TZID=Europe/Madrid:20191025T090000
DTEND;TZID=Europe/Madrid:20191025T230000
DTSTAMP:20260421T132050
CREATED:20191028T095025Z
LAST-MODIFIED:20191028T095025Z
UID:5709-1571994000-1572044400@oscarleon.es
SUMMARY:Desayunos Guadaliuris. Experiencia profesional en un despacho de abogados de UK.
DESCRIPTION:Oscar Fernández León compartió en @Guadaliuris su experiencia profesional en un despacho de abogados de UK\, las diferencias con nuestros bufetes y las anécdotas vividas durante su estancia de dos meses este verano en el bufete St John’s Buildings de la localidad inglesa de Sheffield. \n 
URL:https://oscarleon.es/evento/desayunos-guadaliuris-experiencia-profesional-despacho-abogados-uk/
ATTACH;FMTTYPE=image/jpeg:https://oscarleon.es/wp-content/uploads/2019/10/IMG_6203.jpg
ORGANIZER;CN="Guadaliuris":MAILTO:info@guadaliuris.es
END:VEVENT
END:VCALENDAR