BEGIN:VCALENDAR
VERSION:2.0
PRODID:-//Óscar León - Blog de la Abogacía Práctica - ECPv5.14.2.1//NONSGML v1.0//EN
CALSCALE:GREGORIAN
METHOD:PUBLISH
X-WR-CALNAME:Óscar León - Blog de la Abogacía Práctica
X-ORIGINAL-URL:https://oscarleon.es
X-WR-CALDESC:Eventos para Óscar León - Blog de la Abogacía Práctica
BEGIN:VTIMEZONE
TZID:Europe/Madrid
BEGIN:DAYLIGHT
TZOFFSETFROM:+0100
TZOFFSETTO:+0200
TZNAME:CEST
DTSTART:20190331T010000
END:DAYLIGHT
BEGIN:STANDARD
TZOFFSETFROM:+0200
TZOFFSETTO:+0100
TZNAME:CET
DTSTART:20191027T010000
END:STANDARD
END:VTIMEZONE
BEGIN:VEVENT
DTSTART;TZID=Europe/Madrid:20191218T183000
DTEND;TZID=Europe/Madrid:20191218T193000
DTSTAMP:20260421T143407
CREATED:20191212T094245Z
LAST-MODIFIED:20191212T094245Z
UID:5762-1576693800-1576697400@oscarleon.es
SUMMARY:Formación Solidaria Navidad ICAS
DESCRIPTION:Jornada formativa solidaria sobre “Técnicas de Interrogatorio al perito en Juicio” impartida por Óscar Fernández León. \nEl precio de la misma será la aportación de alimentos que se donará a los más necesitados. \n\nUN PEQUEÑO GESTO TUYO PUEDE SIGNIFICAR UNA NUEVA ESPERANZA PARA MUCHOS.
URL:https://oscarleon.es/evento/formacion-solidaria-navidad-icas/
LOCATION:Colegio de Abogados de Sevilla\, C/ Chapineros\, 6\, Sevilla\, Sevilla\, 41004\, España
ATTACH;FMTTYPE=image/jpeg:https://oscarleon.es/wp-content/uploads/2019/12/FORMACIONicasNAVIDAD.jpg
END:VEVENT
END:VCALENDAR